BEGIN:VCALENDAR
VERSION:2.0
PRODID:-//Broadway Bound - ECPv6.9.0//NONSGML v1.0//EN
CALSCALE:GREGORIAN
METHOD:PUBLISH
X-WR-CALNAME:Broadway Bound
X-ORIGINAL-URL:https://www.bbdc-dance.com
X-WR-CALDESC:Events for Broadway Bound
REFRESH-INTERVAL;VALUE=DURATION:PT1H
X-Robots-Tag:noindex
X-PUBLISHED-TTL:PT1H
BEGIN:VTIMEZONE
TZID:UTC
BEGIN:STANDARD
TZOFFSETFROM:+0000
TZOFFSETTO:+0000
TZNAME:UTC
DTSTART:20250101T000000
END:STANDARD
END:VTIMEZONE
BEGIN:VEVENT
DTSTART;VALUE=DATE:20251219
DTEND;VALUE=DATE:20260105
DTSTAMP:20260423T062124
CREATED:20250820T140021Z
LAST-MODIFIED:20250822T032936Z
UID:17503-1766102400-1767571199@www.bbdc-dance.com
SUMMARY:winter break - closed
DESCRIPTION:
URL:https://www.bbdc-dance.com/event/winter-break-closed/
END:VEVENT
BEGIN:VEVENT
DTSTART;VALUE=DATE:20260119
DTEND;VALUE=DATE:20260120
DTSTAMP:20260423T062124
CREATED:20250820T140041Z
LAST-MODIFIED:20250823T170604Z
UID:18751-1768780800-1768867199@www.bbdc-dance.com
SUMMARY:BBDC Closed
DESCRIPTION:
URL:https://www.bbdc-dance.com/event/mlk-day/
END:VEVENT
BEGIN:VEVENT
DTSTART;VALUE=DATE:20260131
DTEND;VALUE=DATE:20260201
DTSTAMP:20260423T062124
CREATED:20250820T140028Z
LAST-MODIFIED:20250823T170658Z
UID:17991-1769817600-1769903999@www.bbdc-dance.com
SUMMARY:10-month tuition payment deducted #6
DESCRIPTION:
URL:https://www.bbdc-dance.com/event/10-month-tuition-payment-deducted-6/
END:VEVENT
BEGIN:VEVENT
DTSTART;VALUE=DATE:20260131
DTEND;VALUE=DATE:20260201
DTSTAMP:20260423T062124
CREATED:20250820T140039Z
LAST-MODIFIED:20250823T170751Z
UID:17993-1769817600-1769903999@www.bbdc-dance.com
SUMMARY:Pre-Ordered Recital Tights Deducted
DESCRIPTION:
URL:https://www.bbdc-dance.com/event/pre-ordered-recital-tights-deducted/
END:VEVENT
END:VCALENDAR