BEGIN:VCALENDAR
VERSION:2.0
PRODID:-//Broadway Bound - ECPv6.9.0//NONSGML v1.0//EN
CALSCALE:GREGORIAN
METHOD:PUBLISH
X-WR-CALNAME:Broadway Bound
X-ORIGINAL-URL:https://www.bbdc-dance.com
X-WR-CALDESC:Events for Broadway Bound
REFRESH-INTERVAL;VALUE=DURATION:PT1H
X-Robots-Tag:noindex
X-PUBLISHED-TTL:PT1H
BEGIN:VTIMEZONE
TZID:UTC
BEGIN:STANDARD
TZOFFSETFROM:+0000
TZOFFSETTO:+0000
TZNAME:UTC
DTSTART:20200101T000000
END:STANDARD
END:VTIMEZONE
BEGIN:VEVENT
DTSTART;VALUE=DATE:20251231
DTEND;VALUE=DATE:20260101
DTSTAMP:20260423T080711
CREATED:20250820T140023Z
LAST-MODIFIED:20250823T170452Z
UID:17989-1767139200-1767225599@www.bbdc-dance.com
SUMMARY:10-month tuition payment deducted #5
DESCRIPTION:
URL:https://www.bbdc-dance.com/event/10-month-tuition-payment-deducted-5/
END:VEVENT
BEGIN:VEVENT
DTSTART;VALUE=DATE:20251219
DTEND;VALUE=DATE:20260105
DTSTAMP:20260423T080711
CREATED:20250820T140021Z
LAST-MODIFIED:20250822T032936Z
UID:17503-1766102400-1767571199@www.bbdc-dance.com
SUMMARY:winter break - closed
DESCRIPTION:
URL:https://www.bbdc-dance.com/event/winter-break-closed/
END:VEVENT
BEGIN:VEVENT
DTSTART;VALUE=DATE:20251130
DTEND;VALUE=DATE:20251201
DTSTAMP:20260423T080711
CREATED:20250820T140056Z
LAST-MODIFIED:20250822T032853Z
UID:17501-1764460800-1764547199@www.bbdc-dance.com
SUMMARY:deadline to submit recital participation form
DESCRIPTION:
URL:https://www.bbdc-dance.com/event/deadline-to-turn-in-recital-participation-form-2/
END:VEVENT
BEGIN:VEVENT
DTSTART;VALUE=DATE:20251130
DTEND;VALUE=DATE:20251201
DTSTAMP:20260423T080711
CREATED:20250820T140016Z
LAST-MODIFIED:20250822T032817Z
UID:17986-1764460800-1764547199@www.bbdc-dance.com
SUMMARY:10-month tuition payment deducted #4\, 2nd Trimester payment deducted & 3rd recital costume installment
DESCRIPTION:
URL:https://www.bbdc-dance.com/event/10-month-tuition-payment-deducted-4-3rd-recital-costume-installment/
END:VEVENT
BEGIN:VEVENT
DTSTART;VALUE=DATE:20251125
DTEND;VALUE=DATE:20251201
DTSTAMP:20260423T080712
CREATED:20250820T140016Z
LAST-MODIFIED:20250822T032741Z
UID:17499-1764028800-1764547199@www.bbdc-dance.com
SUMMARY:Thanksgiving Break - closed
DESCRIPTION:
URL:https://www.bbdc-dance.com/event/thanksgiving-break-closed-2/
END:VEVENT
BEGIN:VEVENT
DTSTART;VALUE=DATE:20251115
DTEND;VALUE=DATE:20251116
DTSTAMP:20260423T080712
CREATED:20250820T140022Z
LAST-MODIFIED:20250822T032659Z
UID:17497-1763164800-1763251199@www.bbdc-dance.com
SUMMARY:1st Trimester Progress Reports are emailed
DESCRIPTION:
URL:https://www.bbdc-dance.com/event/1st-trimester-progress-reports-come-home-2/
END:VEVENT
BEGIN:VEVENT
DTSTART;VALUE=DATE:20251103
DTEND;VALUE=DATE:20251108
DTSTAMP:20260423T080712
CREATED:20250820T140047Z
LAST-MODIFIED:20250822T032623Z
UID:17515-1762128000-1762559999@www.bbdc-dance.com
SUMMARY:Recital tumbling leotard sizing try-on
DESCRIPTION:
URL:https://www.bbdc-dance.com/event/tumbling-leotard-sizing-try-on-3/
END:VEVENT
BEGIN:VEVENT
DTSTART;VALUE=DATE:20251103
DTEND;VALUE=DATE:20251108
DTSTAMP:20260423T080712
CREATED:20250820T140033Z
LAST-MODIFIED:20250822T032529Z
UID:17495-1762128000-1762559999@www.bbdc-dance.com
SUMMARY:Measuring for Recital Dance Costumes
DESCRIPTION:This form will be emailed to you with your child’s measurements included
URL:https://www.bbdc-dance.com/event/measuring-for-recital-dance-costumes/
END:VEVENT
BEGIN:VEVENT
DTSTART;VALUE=DATE:20251031
DTEND;VALUE=DATE:20251101
DTSTAMP:20260423T080712
CREATED:20250820T140024Z
LAST-MODIFIED:20250822T032445Z
UID:17982-1761868800-1761955199@www.bbdc-dance.com
SUMMARY:10-Month Tuition Payment Deducted #3 & 2nd Recital Costume Installment
DESCRIPTION:
URL:https://www.bbdc-dance.com/event/10-month-tuition-payment-deducted-3-2nd-recital-costume-installment/
END:VEVENT
BEGIN:VEVENT
DTSTART;VALUE=DATE:20251030
DTEND;VALUE=DATE:20251031
DTSTAMP:20260423T080712
CREATED:20250820T140040Z
LAST-MODIFIED:20250822T032404Z
UID:17493-1761782400-1761868799@www.bbdc-dance.com
SUMMARY:Trick or Treat Night - Closed
DESCRIPTION:
URL:https://www.bbdc-dance.com/event/trick-or-treat-night-closing-at-5pm/
END:VEVENT
BEGIN:VEVENT
DTSTART;VALUE=DATE:20250930
DTEND;VALUE=DATE:20251001
DTSTAMP:20260423T080712
CREATED:20250820T140030Z
LAST-MODIFIED:20250822T032216Z
UID:17980-1759190400-1759276799@www.bbdc-dance.com
SUMMARY:10-Month Tuition Payment Deducted #2 & 1st Recital Costume Installment
DESCRIPTION:
URL:https://www.bbdc-dance.com/event/10-month-tuition-payment-deducted-2-1st-recital-costume-installment/
END:VEVENT
BEGIN:VEVENT
DTSTART;VALUE=DATE:20250915
DTEND;VALUE=DATE:20250916
DTSTAMP:20260423T080712
CREATED:20250820T140054Z
LAST-MODIFIED:20250822T032120Z
UID:19024-1757894400-1757980799@www.bbdc-dance.com
SUMMARY:Tuition/Costume Payment Plan Selections Must Be Made
DESCRIPTION:
URL:https://www.bbdc-dance.com/event/tuition-costume-payment-plan-selections-must-be-made/
END:VEVENT
BEGIN:VEVENT
DTSTART;VALUE=DATE:20250902
DTEND;VALUE=DATE:20250903
DTSTAMP:20260423T080712
CREATED:20250820T140054Z
LAST-MODIFIED:20250822T032044Z
UID:17491-1756771200-1756857599@www.bbdc-dance.com
SUMMARY:Fall Classes Begin
DESCRIPTION:
URL:https://www.bbdc-dance.com/event/fall-classes-begin-2/
END:VEVENT
BEGIN:VEVENT
DTSTART;VALUE=DATE:20250831
DTEND;VALUE=DATE:20250901
DTSTAMP:20260423T080712
CREATED:20250820T140026Z
LAST-MODIFIED:20250822T032006Z
UID:17977-1756598400-1756684799@www.bbdc-dance.com
SUMMARY:Tuition Withdraw - 10 Payment Option\, Trimester & Prepay
DESCRIPTION:
URL:https://www.bbdc-dance.com/event/tuition-withdraw-10-payment-options-trimester-prepay/
END:VEVENT
BEGIN:VEVENT
DTSTART;VALUE=DATE:20250715
DTEND;VALUE=DATE:20250716
DTSTAMP:20260423T080712
CREATED:20240815T140003Z
LAST-MODIFIED:20250206T163702Z
UID:16805-1752537600-1752623999@www.bbdc-dance.com
SUMMARY:Summer Classes - Session #2 Begins
DESCRIPTION:
URL:https://www.bbdc-dance.com/event/summer-session-2-2/
LOCATION:Broadway Bound Dance Centre\, 6701 Bevelhymer Road\, New Albany\, OH\, 43054\, United States
END:VEVENT
BEGIN:VEVENT
DTSTART;VALUE=DATE:20250701
DTEND;VALUE=DATE:20250702
DTSTAMP:20260423T080712
CREATED:20240815T140034Z
LAST-MODIFIED:20240816T050316Z
UID:17729-1751328000-1751414399@www.bbdc-dance.com
SUMMARY:Summer Classes - Session #1 Begins
DESCRIPTION:
URL:https://www.bbdc-dance.com/event/summer-session-1-begins/
LOCATION:Broadway Bound Dance Centre\, 6701 Bevelhymer Road\, New Albany\, OH\, 43054\, United States
END:VEVENT
BEGIN:VEVENT
DTSTART;TZID=UTC:20210821T100000
DTEND;TZID=UTC:20210821T120000
DTSTAMP:20260423T080712
CREATED:20210614T140043Z
LAST-MODIFIED:20210614T195549Z
UID:16768-1629540000-1629547200@www.bbdc-dance.com
SUMMARY:Open House
DESCRIPTION:
URL:https://www.bbdc-dance.com/event/open-house/
LOCATION:Broadway Bound Dance Centre\, 6701 Bevelhymer Road\, New Albany\, OH\, 43054\, United States
END:VEVENT
BEGIN:VEVENT
DTSTART;VALUE=DATE:20210802
DTEND;VALUE=DATE:20210807
DTSTAMP:20260423T080712
CREATED:20180909T190014Z
LAST-MODIFIED:20210614T184559Z
UID:17578-1627862400-1628294399@www.bbdc-dance.com
SUMMARY:Dance Camp
DESCRIPTION:
URL:https://www.bbdc-dance.com/event/dance-camp/
LOCATION:Broadway Bound Dance Centre\, 6701 Bevelhymer Road\, New Albany\, OH\, 43054\, United States
END:VEVENT
BEGIN:VEVENT
DTSTART;VALUE=DATE:20210621
DTEND;VALUE=DATE:20210624
DTSTAMP:20260423T080712
CREATED:20210614T184023Z
LAST-MODIFIED:20210614T184023Z
UID:18165-1624233600-1624492799@www.bbdc-dance.com
SUMMARY:Tumble Camp
DESCRIPTION:
URL:https://www.bbdc-dance.com/event/tumble-camp/
LOCATION:Broadway Bound Dance Centre\, 6701 Bevelhymer Road\, New Albany\, OH\, 43054\, United States
END:VEVENT
BEGIN:VEVENT
DTSTART;VALUE=DATE:20210614
DTEND;VALUE=DATE:20210617
DTSTAMP:20260423T080712
CREATED:20210614T183904Z
LAST-MODIFIED:20210614T183941Z
UID:18163-1623628800-1623887999@www.bbdc-dance.com
SUMMARY:Hip Hop Camp
DESCRIPTION:
URL:https://www.bbdc-dance.com/event/hip-hop-camp/
LOCATION:Broadway Bound Dance Centre\, 6701 Bevelhymer Road\, New Albany\, OH\, 43054\, United States
END:VEVENT
BEGIN:VEVENT
DTSTART;VALUE=DATE:20200410
DTEND;VALUE=DATE:20200414
DTSTAMP:20260423T080712
CREATED:20190723T182903Z
LAST-MODIFIED:20190723T222940Z
UID:17686-1586476800-1586822399@www.bbdc-dance.com
SUMMARY:BBDC Closed for Easter Observance
DESCRIPTION:
URL:https://www.bbdc-dance.com/event/bbdc-closed/
END:VEVENT
END:VCALENDAR