BEGIN:VCALENDAR
VERSION:2.0
PRODID:-//Broadway Bound - ECPv6.9.0//NONSGML v1.0//EN
CALSCALE:GREGORIAN
METHOD:PUBLISH
X-WR-CALNAME:Broadway Bound
X-ORIGINAL-URL:https://www.bbdc-dance.com
X-WR-CALDESC:Events for Broadway Bound
REFRESH-INTERVAL;VALUE=DURATION:PT1H
X-Robots-Tag:noindex
X-PUBLISHED-TTL:PT1H
BEGIN:VTIMEZONE
TZID:UTC
BEGIN:STANDARD
TZOFFSETFROM:+0000
TZOFFSETTO:+0000
TZNAME:UTC
DTSTART:20260101T000000
END:STANDARD
TZID:America/Halifax
BEGIN:DAYLIGHT
TZOFFSETFROM:-0400
TZOFFSETTO:-0300
TZNAME:ADT
DTSTART:20260308T060000
END:DAYLIGHT
BEGIN:STANDARD
TZOFFSETFROM:-0300
TZOFFSETTO:-0400
TZNAME:AST
DTSTART:20261101T050000
END:STANDARD
END:VTIMEZONE
BEGIN:VEVENT
DTSTART;VALUE=DATE:20260327
DTEND;VALUE=DATE:20260406
DTSTAMP:20260423T045528
CREATED:20250820T140003Z
LAST-MODIFIED:20250823T171653Z
UID:17511-1774569600-1775433599@www.bbdc-dance.com
SUMMARY:Spring Break - Closed
DESCRIPTION:
URL:https://www.bbdc-dance.com/event/spring-break-closed/
END:VEVENT
BEGIN:VEVENT
DTSTART;VALUE=DATE:20260331
DTEND;VALUE=DATE:20260401
DTSTAMP:20260423T045528
CREATED:20250820T140007Z
LAST-MODIFIED:20250823T171816Z
UID:18000-1774915200-1775001599@www.bbdc-dance.com
SUMMARY:10-month tuition payment deducted #8
DESCRIPTION:
URL:https://www.bbdc-dance.com/event/10-month-tuition-payment-deducted-8/
END:VEVENT
BEGIN:VEVENT
DTSTART;VALUE=DATE:20260406
DTEND;VALUE=DATE:20260607
DTSTAMP:20260423T045528
CREATED:20250820T140026Z
LAST-MODIFIED:20250823T172006Z
UID:17517-1775433600-1780790399@www.bbdc-dance.com
SUMMARY:Recital Tickets are on sale
DESCRIPTION:
URL:https://www.bbdc-dance.com/event/recital-tickets-go-on-sale/
END:VEVENT
BEGIN:VEVENT
DTSTART;VALUE=DATE:20260430
DTEND;VALUE=DATE:20260501
DTSTAMP:20260423T045528
CREATED:20250820T140039Z
LAST-MODIFIED:20250823T172159Z
UID:18002-1777507200-1777593599@www.bbdc-dance.com
SUMMARY:10-month tuition payment deducted #9
DESCRIPTION:
URL:https://www.bbdc-dance.com/event/10-month-tuition-payment-deducted-9/
END:VEVENT
BEGIN:VEVENT
DTSTART;VALUE=DATE:20260501
DTEND;VALUE=DATE:20260502
DTSTAMP:20260423T045528
CREATED:20250820T140055Z
LAST-MODIFIED:20250823T172328Z
UID:17520-1777593600-1777679999@www.bbdc-dance.com
SUMMARY:2026-2027 Enrollment Begins
DESCRIPTION:
URL:https://www.bbdc-dance.com/event/enrollment-begins/
END:VEVENT
BEGIN:VEVENT
DTSTART;TZID=America/Halifax:20260501T080000
DTEND;TZID=America/Halifax:20260501T170000
DTSTAMP:20260423T045528
CREATED:20250823T172529Z
LAST-MODIFIED:20250823T172529Z
UID:19992-1777622400-1777654800@www.bbdc-dance.com
SUMMARY:Recital Costume Detail Sheets Available Online
DESCRIPTION:
URL:https://www.bbdc-dance.com/event/recital-costume-detail-sheets-available-online/
END:VEVENT
BEGIN:VEVENT
DTSTART;VALUE=DATE:20260504
DTEND;VALUE=DATE:20260505
DTSTAMP:20260423T045528
CREATED:20250820T140046Z
LAST-MODIFIED:20250823T172833Z
UID:17522-1777852800-1777939199@www.bbdc-dance.com
SUMMARY:2025-2026 Teacher Recommendation forms are emailed
DESCRIPTION:
URL:https://www.bbdc-dance.com/event/2019-2020-teacher-recommendation-forms-come-home/
END:VEVENT
BEGIN:VEVENT
DTSTART;VALUE=DATE:20260505
DTEND;VALUE=DATE:20260508
DTSTAMP:20260423T045528
CREATED:20250820T140054Z
LAST-MODIFIED:20250823T172942Z
UID:17524-1777939200-1778198399@www.bbdc-dance.com
SUMMARY:Studio Picture Days
DESCRIPTION:
URL:https://www.bbdc-dance.com/event/studio-picture-days/
LOCATION:Broadway Bound Dance Centre\, 6701 Bevelhymer Road\, New Albany\, OH\, 43054\, United States
END:VEVENT
BEGIN:VEVENT
DTSTART;VALUE=DATE:20260508
DTEND;VALUE=DATE:20260509
DTSTAMP:20260423T045528
CREATED:20250820T140009Z
LAST-MODIFIED:20250823T173105Z
UID:17526-1778198400-1778284799@www.bbdc-dance.com
SUMMARY:Deadline to order recital keepsakes
DESCRIPTION:
URL:https://www.bbdc-dance.com/event/deadline-to-order-recital-keepsakes-2/
END:VEVENT
BEGIN:VEVENT
DTSTART;VALUE=DATE:20260525
DTEND;VALUE=DATE:20260526
DTSTAMP:20260423T045528
CREATED:20250820T140037Z
LAST-MODIFIED:20250823T173242Z
UID:17528-1779667200-1779753599@www.bbdc-dance.com
SUMMARY:closed for memorial day
DESCRIPTION:
URL:https://www.bbdc-dance.com/event/closed-for-memorial-day-2/
END:VEVENT
BEGIN:VEVENT
DTSTART;VALUE=DATE:20260531
DTEND;VALUE=DATE:20260601
DTSTAMP:20260423T045528
CREATED:20250820T140005Z
LAST-MODIFIED:20250823T174622Z
UID:18006-1780185600-1780271999@www.bbdc-dance.com
SUMMARY:10-month tuition payment deducted #10
DESCRIPTION:
URL:https://www.bbdc-dance.com/event/10-month-tuition-payment-deducted-10/
END:VEVENT
BEGIN:VEVENT
DTSTART;VALUE=DATE:20260605
DTEND;VALUE=DATE:20260607
DTSTAMP:20260423T045528
CREATED:20250820T140043Z
LAST-MODIFIED:20250823T173659Z
UID:17532-1780617600-1780790399@www.bbdc-dance.com
SUMMARY:RECITAL DAY!
DESCRIPTION:
URL:https://www.bbdc-dance.com/event/recital-day-2/
LOCATION:McCoy Performing Arts Center\, 100 E Dublin Granville Rd\, New Albany\, OH\, 43054\, United States
END:VEVENT
BEGIN:VEVENT
DTSTART;VALUE=DATE:20260605
DTEND;VALUE=DATE:20260606
DTSTAMP:20260423T045528
CREATED:20250820T140022Z
LAST-MODIFIED:20250823T173552Z
UID:16784-1780617600-1780703999@www.bbdc-dance.com
SUMMARY:Dress Rehearsal
DESCRIPTION:
URL:https://www.bbdc-dance.com/event/dress-rehearsal-2/
LOCATION:McCoy Performing Arts Center\, 100 E Dublin Granville Rd\, New Albany\, OH\, 43054\, United States
END:VEVENT
END:VCALENDAR