BEGIN:VCALENDAR
VERSION:2.0
PRODID:-//Broadway Bound - ECPv6.9.0//NONSGML v1.0//EN
CALSCALE:GREGORIAN
METHOD:PUBLISH
X-WR-CALNAME:Broadway Bound
X-ORIGINAL-URL:https://www.bbdc-dance.com
X-WR-CALDESC:Events for Broadway Bound
REFRESH-INTERVAL;VALUE=DURATION:PT1H
X-Robots-Tag:noindex
X-PUBLISHED-TTL:PT1H
BEGIN:VTIMEZONE
TZID:UTC
BEGIN:STANDARD
TZOFFSETFROM:+0000
TZOFFSETTO:+0000
TZNAME:UTC
DTSTART:20260101T000000
END:STANDARD
TZID:America/Halifax
BEGIN:DAYLIGHT
TZOFFSETFROM:-0400
TZOFFSETTO:-0300
TZNAME:ADT
DTSTART:20260308T060000
END:DAYLIGHT
BEGIN:STANDARD
TZOFFSETFROM:-0300
TZOFFSETTO:-0400
TZNAME:AST
DTSTART:20261101T050000
END:STANDARD
END:VTIMEZONE
BEGIN:VEVENT
DTSTART;VALUE=DATE:20260406
DTEND;VALUE=DATE:20260607
DTSTAMP:20260423T033030
CREATED:20250820T140026Z
LAST-MODIFIED:20250823T172006Z
UID:17517-1775433600-1780790399@www.bbdc-dance.com
SUMMARY:Recital Tickets are on sale
DESCRIPTION:
URL:https://www.bbdc-dance.com/event/recital-tickets-go-on-sale/
END:VEVENT
BEGIN:VEVENT
DTSTART;VALUE=DATE:20260501
DTEND;VALUE=DATE:20260502
DTSTAMP:20260423T033030
CREATED:20250820T140055Z
LAST-MODIFIED:20250823T172328Z
UID:17520-1777593600-1777679999@www.bbdc-dance.com
SUMMARY:2026-2027 Enrollment Begins
DESCRIPTION:
URL:https://www.bbdc-dance.com/event/enrollment-begins/
END:VEVENT
BEGIN:VEVENT
DTSTART;TZID=America/Halifax:20260501T080000
DTEND;TZID=America/Halifax:20260501T170000
DTSTAMP:20260423T033030
CREATED:20250823T172529Z
LAST-MODIFIED:20250823T172529Z
UID:19992-1777622400-1777654800@www.bbdc-dance.com
SUMMARY:Recital Costume Detail Sheets Available Online
DESCRIPTION:
URL:https://www.bbdc-dance.com/event/recital-costume-detail-sheets-available-online/
END:VEVENT
END:VCALENDAR