BEGIN:VCALENDAR
VERSION:2.0
PRODID:-//Broadway Bound - ECPv6.9.0//NONSGML v1.0//EN
CALSCALE:GREGORIAN
METHOD:PUBLISH
X-WR-CALNAME:Broadway Bound
X-ORIGINAL-URL:https://www.bbdc-dance.com
X-WR-CALDESC:Events for Broadway Bound
REFRESH-INTERVAL;VALUE=DURATION:PT1H
X-Robots-Tag:noindex
X-PUBLISHED-TTL:PT1H
BEGIN:VTIMEZONE
TZID:UTC
BEGIN:STANDARD
TZOFFSETFROM:+0000
TZOFFSETTO:+0000
TZNAME:UTC
DTSTART:20260101T000000
END:STANDARD
END:VTIMEZONE
BEGIN:VEVENT
DTSTART;VALUE=DATE:20260406
DTEND;VALUE=DATE:20260607
DTSTAMP:20260423T033142
CREATED:20250820T140026Z
LAST-MODIFIED:20250823T172006Z
UID:17517-1775433600-1780790399@www.bbdc-dance.com
SUMMARY:Recital Tickets are on sale
DESCRIPTION:
URL:https://www.bbdc-dance.com/event/recital-tickets-go-on-sale/
END:VEVENT
END:VCALENDAR