BEGIN:VCALENDAR
VERSION:2.0
PRODID:-//Broadway Bound - ECPv6.9.0//NONSGML v1.0//EN
CALSCALE:GREGORIAN
METHOD:PUBLISH
X-WR-CALNAME:Broadway Bound
X-ORIGINAL-URL:https://www.bbdc-dance.com
X-WR-CALDESC:Events for Broadway Bound
REFRESH-INTERVAL;VALUE=DURATION:PT1H
X-Robots-Tag:noindex
X-PUBLISHED-TTL:PT1H
BEGIN:VTIMEZONE
TZID:UTC
BEGIN:STANDARD
TZOFFSETFROM:+0000
TZOFFSETTO:+0000
TZNAME:UTC
DTSTART:20250101T000000
END:STANDARD
END:VTIMEZONE
BEGIN:VEVENT
DTSTART;VALUE=DATE:20250930
DTEND;VALUE=DATE:20251001
DTSTAMP:20260423T114827
CREATED:20250820T140030Z
LAST-MODIFIED:20250822T032216Z
UID:17980-1759190400-1759276799@www.bbdc-dance.com
SUMMARY:10-Month Tuition Payment Deducted #2 & 1st Recital Costume Installment
DESCRIPTION:
URL:https://www.bbdc-dance.com/event/10-month-tuition-payment-deducted-2-1st-recital-costume-installment/
END:VEVENT
END:VCALENDAR